BEGIN:VCALENDAR
VERSION:2.0
PRODID:-//ChamberMaster//Event Calendar 2.0//EN
METHOD:PUBLISH
X-PUBLISHED-TTL:P3D
REFRESH-INTERVAL:P3D
CALSCALE:GREGORIAN
BEGIN:VEVENT
DTSTART:20260601T150000Z
DTEND:20260601T210000Z
X-MICROSOFT-CDO-ALLDAYEVENT:FALSE
SUMMARY:52nd Members' Golf Day
DESCRIPTION:It's our 52nd Members' Golf Day\, the Elgin Medical Institute Classic.\n\nDr's Orders: Hit the Fairway!\n\n\n\nMonday\, June 1st\n\nSt. Thomas Golf & Country Club\n\n18 holes with cart - scramble format.\n\nIncludes a delicious pre-round brunch in the dining room and swing by the Halfway Hut for a burger or sausage during the round.\n\nTry your luck at contests throughout the course including longest drive\, putting\, closest to the pin and more.\n\n\n\nFoursome price: $975 + hst\n\nSingle golfer price: $275 + hst\n\n\n\nSponsorships available - be featured on the course!\n\n\n\nEmail lindsey@stthomaschamber.ca for more details.\n\n\n\nSpaces are very limited - book early!
X-ALT-DESC;FMTTYPE=text/html:It&#39\;s our 52nd Members&#39\; Golf Day\, the Elgin Medical Institute Classic.<br />\nDr&#39\;s Orders: Hit the Fairway!<br />\n<br />\nMonday\, June 1st<br />\nSt. Thomas Golf &amp\; Country Club<br />\n18 holes with cart - scramble format.<br />\nIncludes a delicious pre-round brunch in the dining room and swing by the Halfway Hut for a burger or sausage during the round.<br />\nTry your luck at contests throughout the course including longest drive\, putting\, closest to the pin and more.<br />\n<br />\nFoursome price: $975 + hst<br />\nSingle golfer price: $275 + hst<br />\n<br />\nSponsorships available - be featured on the course!<br />\n<br />\nEmail lindsey@stthomaschamber.ca for more details.<br />\n<br />\nSpaces are very limited - book early!
LOCATION:St. Thomas Golf & Country Club Union
UID:e.2614.1293
SEQUENCE:3
DTSTAMP:20260420T220330Z
URL:https://stthomaschamber.ca/events/details/52nd-members-golf-day-1293
END:VEVENT

END:VCALENDAR
